BEGIN:VCALENDAR
VERSION:2.0
PRODID:icalendar-ruby
CALSCALE:GREGORIAN
BEGIN:VEVENT
DTSTAMP:20260423T031523Z
UID:6dc04b93-f1de-467c-b233-1b50ecc89dbe
DTSTART;VALUE=DATE:20240705
DESCRIPTION:Property ID# 576583\, Time: 3:30PM
SUMMARY:Auction for 
END:VEVENT
END:VCALENDAR
